BEGIN:VCALENDAR
VERSION:2.0
PRODID:-//wp-events-plugin.com//7.2.3.1//EN
TZID:Europe/Brussels
X-WR-TIMEZONE:Europe/Brussels
BEGIN:VEVENT
UID:626@hainaut-developpement.be
DTSTART;TZID=Europe/Brussels:20201119T110000
DTEND;TZID=Europe/Brussels:20201119T123000
DTSTAMP:20201110T072414Z
URL:https://www.hainaut-developpement.be/agenda/webinaire-le-management-du
 -teletravail/
SUMMARY:Webinaire: Le management du télétravail
DESCRIPTION:Ce 19 novembre 2020\, de 11h00 à 12h30\, Synergie et Hainaut D
 éveloppement vous proposent un webinaire animé par Laurent DUEZ\, expert
  en gestion des ressources humaines chez Agefi.\nLe télétravail\, actue
 llement vivement recommandé\, demande des adaptations au niveau du manage
 ment.\nLe manager ne voit en effet pas les personnes travaillant à distan
 ce et une perte de confiance ou des difficultés de communication peuvent 
 apparaître. Il en va de même pour l'utilisation des outils de communicat
 ion à distance.\nAu cours de ce webinaire\, nous vous proposons d'exposer
  les difficultés que vous rencontrez avec le télétravail et notre exper
 t vous apportera des pistes de solutions telles qu'une adaptation de la ge
 stion des objectifs\, la gestion de la distance entre les personnes\, les 
 modes de communication\,...\nLa participation à ce webinaire est gratuite
 .\n[su_button url="https://synergie.myodoo.com/event/visioconference-le-ma
 nagement-du-teletravail-2020-11-19-188/register" target="blank" style="3d"
  color="#ffffff" size="8" icon="icon: edit" icon_color="#ffffff" text_shad
 ow="0px 0px 0px #000000"]INSCRIPTION[/su_button]\n\n\n\n&nbsp\;
ATTACH;FMTTYPE=image/jpeg:https://www.hainaut-developpement.be/wp-content/
 uploads/2020/11/Duez-Agefi.jpg
CATEGORIES:Développement des entreprises
END:VEVENT
BEGIN:VTIMEZONE
TZID:Europe/Brussels
X-LIC-LOCATION:Europe/Brussels
BEGIN:STANDARD
DTSTART:20201025T020000
TZOFFSETFROM:+0200
TZOFFSETTO:+0100
TZNAME:CET
END:STANDARD
END:VTIMEZONE
END:VCALENDAR