BEGIN:VCALENDAR
VERSION:2.0
PRODID:-//wp-events-plugin.com//7.2.3.1//EN
TZID:Europe/Brussels
X-WR-TIMEZONE:Europe/Brussels
BEGIN:VEVENT
UID:705@hainaut-developpement.be
DTSTART;TZID=Europe/Brussels:20211007T120000
DTEND;TZID=Europe/Brussels:20211007T150000
DTSTAMP:20210909T065130Z
URL:https://www.hainaut-developpement.be/agenda/ucm-on-tour-mons-07-10/
SUMMARY:UCM On Tour - MONS - 07/10
DESCRIPTION:Hainaut Développement sera partenaire de l'UCM on Tour - MONS 
 - 07/10\nVenez retrouver le plaisir des rencontres business autours de nos
  caravanes.\nRencontrez les conseillers UCM et Hainaut Développement\, d
 écouvrez le parcours d’entrepreneurs inspirants\, networkez "gourmand" 
 et découvrez le village des talents de votre région.\nAvec UCM On Tour\,
  nous vous proposons de rencontrer d’autres entrepreneurs et de dévelop
 per votre business tout en profitant d’un apéro dînatoire.\nEn partici
 pant à ce nouveau concept\, vous aurez l'occasion:\n&#x2611\;&#xfe0f\; de
  profiter d’un moment convivial\n&#x2611\;&#xfe0f\; d’élargir votre h
 orizon professionnel en réseautant avec d’autres entrepreneurs\n&#x2611
 \;&#xfe0f\; de présenter votre activité\, de développer votre business 
 en créant des synergies\n&#x2611\;&#xfe0f\; de partager des expériences 
 gagnantes et progresser en bénéficiant de conseils expérimentés\n&#x26
 11\;&#xfe0f\; de rencontrer et bénéficier des conseils et suivis de vos 
 experts UCM toutes matières confondues\n&nbsp\;\n\n 	\nLe programme spéc
 ifique se trouve ci-dessous.\n\n\n&nbsp\;\n\nPrix:\nTarif membre: 35 € T
 VAC\n\nTarif non-membre: 45 € TVAC\n\n1 € par inscription sera revers
 é à la Fondation contre le cancer.\n\nLe tarif comprend le lunch\, un ap
 éro et 2 boissons au choix (soft ou vin) &#x1f379\;&#x1f364\; ainsi que l
 'accès aux différents stands.\n\n&nbsp\;\n\nModalités d'inscription:\nL
 e nombre de participants étant limité\, l’inscription est obligatoire.
 \nLors de votre inscription\, nous vous enverrons les modalités pour le p
 aiement qui validera votre entrée.\n&nbsp\;\n\nInfos &amp\; inscriptions?
 \nContact UCM: mouvement.hainaut@ucm.be\n\nContact Province de Hainaut - H
 ainaut Développement:\n\nEmmanuel NACHEZ\n\nTél.: +32 65 342 572\n\nMail
 : emmanuel.nachez@hainaut.be\n\n&nbsp\;\n\n\n\n&nbsp\;\n
ATTACH;FMTTYPE=image/jpeg:https://www.hainaut-developpement.be/wp-content/
 uploads/2021/09/post-rs-UCMontour.png
CATEGORIES:Développement des entreprises
LOCATION:Harley-Davidson\, rue de la Poire d'Or 23\, Mons\, Hainaut\, 7033\
 , Mons\, Belgique
GEO:50.449902;3.913494
X-APPLE-STRUCTURED-LOCATION;VALUE=URI;X-ADDRESS=rue de la Poire d'Or 23\, M
 ons\, Hainaut\, 7033\, Mons\, Belgique;X-APPLE-RADIUS=100;X-TITLE=Harley-D
 avidson:geo:50.449902,3.913494
END:VEVENT
BEGIN:VTIMEZONE
TZID:Europe/Brussels
X-LIC-LOCATION:Europe/Brussels
BEGIN:DAYLIGHT
DTSTART:20210328T030000
TZOFFSETFROM:+0100
TZOFFSETTO:+0200
TZNAME:CEST
END:DAYLIGHT
END:VTIMEZONE
END:VCALENDAR