BEGIN:VCALENDAR
VERSION:2.0
PRODID:-//wp-events-plugin.com//7.2.3.1//EN
TZID:Europe/Brussels
X-WR-TIMEZONE:Europe/Brussels
BEGIN:VEVENT
UID:1132@hainaut-developpement.be
DTSTART;TZID=Europe/Brussels:20260520T104500
DTEND;TZID=Europe/Brussels:20260520T133000
DTSTAMP:20260424T064502Z
URL:https://www.hainaut-developpement.be/agenda/transparence-salariale-ete
 s-vous-pret-pour-2026/
SUMMARY:Transparence salariale : êtes‑vous prêt pour 2026 ?
DESCRIPTION:D’ici juin 2026\, les employeurs belges devront composer avec
  de nouvelles obligations légales en matière de politique salariale\, de
  communication et de reporting.
ATTACH;FMTTYPE=image/jpeg:https://www.hainaut-developpement.be/wp-content/
 uploads/2026/04/people-taking-part-high-protocol-event.jpeg
CATEGORIES:Développement des entreprises
LOCATION:Province de Hainaut - Hainaut Développement\, Boulevard Initialis
  22\, MONS\, 7000\, Belgique
GEO:50.45965959999999;3.9265437999999903
X-APPLE-STRUCTURED-LOCATION;VALUE=URI;X-ADDRESS=Boulevard Initialis 22\, MO
 NS\, 7000\, Belgique;X-APPLE-RADIUS=100;X-TITLE=Province de Hainaut - Hain
 aut Développement:geo:50.45965959999999,3.9265437999999903
END:VEVENT
BEGIN:VTIMEZONE
TZID:Europe/Brussels
X-LIC-LOCATION:Europe/Brussels
BEGIN:DAYLIGHT
DTSTART:20260329T030000
TZOFFSETFROM:+0100
TZOFFSETTO:+0200
TZNAME:CEST
END:DAYLIGHT
END:VTIMEZONE
END:VCALENDAR