BEGIN:VCALENDAR
VERSION:2.0
PRODID:-//wp-events-plugin.com//7.2.3.1//EN
TZID:Europe/Brussels
X-WR-TIMEZONE:Europe/Brussels
BEGIN:VEVENT
UID:720@hainaut-developpement.be
DTSTART;TZID=Europe/Brussels:20211119T100000
DTEND;TZID=Europe/Brussels:20211119T120000
DTSTAMP:20211028T071607Z
URL:https://www.hainaut-developpement.be/agenda/pourquoi-est-il-aujourdhui
 -indispensable-de-maitriser-lusage-des-conditions-generales-2/
SUMMARY:Pourquoi est-il aujourd'hui indispensable de maîtriser l'usage des
  conditions générales?
DESCRIPTION:\n 	Le client de Paul a annulé à la dernière minute une impo
 rtante commande sur son site internet\, mais ce dernier n'a rien prévu da
 ns ses conditions générales\, que peut-il faire?\n 	Henri a presté de n
 ombreuses heures supplémentaires à la demande du client qui refuse maint
 enant d'honorer sa facture de supplément\, est-il en droit d'être payé?
 \n 	Pierre le peintre doit tout recommencer suite au passage de l'électri
 cien\, est-ce à sa charge?\n 	Gérard le comptable avait négocié un for
 fait\, mais son client conteste l'existence de prestations accomplies\, qu
 e doit-il répondre?\n\n&nbsp\;\n\nOn ne saurait trop conseiller aux entre
 prises de se doter de conditions générales personnalisées à leur entre
 prise\, soit pour rappeler le droit commun (effet pédagogique)\, soit pou
 r déroger au droit commun à leur avantage lors que c'est possible\, sans
  oublier afin de respecter les mentions obligatoires: RGPD\, ventes à dis
 tance\, protection des consommateurs\, etc.\n\n&nbsp\;\n\nQuand un problè
 me survient\, soit on se félicite d'avoir de bonnes conditions générale
 s bien rédigées\, soit on se maudit d'avoir négligé de s'en occuper!\n
 \n&nbsp\;\nMe David BLONDEEL et Me Fabien SMETS\, avocats praticiens du dr
 oit des affaires chez Centrius Avocats vous expliqueront:\n\n 	Comment et 
 quand utiliser vos conditions générales\n 	Comment faire "passer" vos co
 nditions générales auprès des clients\n 	Quelles mentions inscrire dans
  vos factures et courriers à l'attention des clients\n 	Comment mettre en
  place des conditions générales personnalisées qui protègent toutes vo
 s activités\n 	Comment négocier face aux conditions générales de vos p
 artenaires commerciaux et fournisseurs\n\n&nbsp\;\n\nPour permettre à l'o
 rateur de vous donner un maximum de tuyaux pratiques pour améliorer vos c
 onditions générales et rendre la conférence interactive\, il vous est l
 oisible de lui adresser vos conditions générales actuelles par mail à d
 b@centrius.be&lt\;mailto:db@centrius.be&gt\; avant la conférence.\n\nLa c
 onférence sera suivie d’un moment de convivialité (en fonction des con
 ditions sanitaires).\n\n&nbsp\;\n\n[su_button url="https://www.eventbrite.
 be/e/inscription-pourquoi-la-maitrise-des-conditions-generales-est-elle-in
 dispensable-193520122897" target="blank" style="3d" color="#ffffff" size="
 6" radius="round" icon="icon: chevron-right" icon_color="#ffffff" text_sha
 dow="0px 0px 0px #000000"]INSCRIPTIONS[/su_button]\n\n&nbsp\;\nInformation
 s et contacts\nEmmanuel NACHEZ\n\nemmanuel.nachez@hainaut.be\n\n+32 65 342
  572\n\n
ATTACH;FMTTYPE=image/jpeg:https://www.hainaut-developpement.be/wp-content/
 uploads/2021/10/juridique.jpg
CATEGORIES:Développement des entreprises
LOCATION:SST Secrétariat social\, Rue du Désert\, 3\, Tournai\, Hainaut\,
  7500\, Tournai-Mouscron\, Belgique
GEO:50.611556;3.386906
X-APPLE-STRUCTURED-LOCATION;VALUE=URI;X-ADDRESS=Rue du Désert\, 3\, Tourna
 i\, Hainaut\, 7500\, Tournai-Mouscron\, Belgique;X-APPLE-RADIUS=100;X-TITL
 E=SST Secrétariat social:geo:50.611556,3.386906
END:VEVENT
BEGIN:VTIMEZONE
TZID:Europe/Brussels
X-LIC-LOCATION:Europe/Brussels
BEGIN:STANDARD
DTSTART:20211031T020000
TZOFFSETFROM:+0200
TZOFFSETTO:+0100
TZNAME:CET
END:STANDARD
END:VTIMEZONE
END:VCALENDAR