BEGIN:VCALENDAR
VERSION:2.0
PRODID:-//wp-events-plugin.com//7.2.3.1//EN
TZID:Europe/Brussels
X-WR-TIMEZONE:Europe/Brussels
BEGIN:VEVENT
UID:698@hainaut-developpement.be
DTSTART;TZID=Europe/Brussels:20211116T100000
DTEND;TZID=Europe/Brussels:20211116T180000
DTSTAMP:20211108T092824Z
URL:https://www.hainaut-developpement.be/agenda/marche-du-gout-le-rendez-v
 ous-des-professionnels-de-lagroalimentaire/
SUMMARY:Evénement de clôture du projet "Filière AD-T" et Marché du Goû
 t
DESCRIPTION:\n\nHainaut Développement et ses partenaires du projet "Filiè
 re AD-T"\, pour le Développement d’une Filière Agroalimentaire Durable
  Transfrontalière\, vous convient à leur événement de clôture\, le 16
  novembre 2021\, au Domaine d’Arondeau (Péruwelz - BE).\nDurant 5 anné
 es\, 19 opérateurs wallons\, flamands et français\, répartis sur toute 
 la zone frontalière\, ont uni leurs compétences pour mettre en œuvre un
  dispositif d'accompagnement\, complet et spécifique\, à destination des
  entreprises agroalimentaires\, pour développer leurs activités de part 
 et d’autre de la frontière.\nRetour sur les différentes activités org
 anisées tout au long de ce projet et les résultats engendrés grâce à 
 celles-ci à travers diverses interventions d’opérateurs\, d’entrepri
 ses et de consommateurs participants.\nDans ce domaine d’exception\, les
  produits locaux qui caractérisent si bien nos régions seront mis à l
 ’honneur grâce au Marché du Goût\, regroupant une trentaine d’expos
 ants belges et français. Vous pourrez également découvrir les différen
 ts outils créés autour de la sensibilisation des consommateurs à l’al
 imentation durable\, à travers les ateliers de l’après-midi.\nUne jour
 née unique\, mêlant à la fois échange d’expérience\, networking et 
 sensibilisation à l’alimentation durable.\n\n\nEn tant que professionne
 l de l’alimentation\, vous êtes à la recherche de produits locaux et d
 e qualité pour ravir votre clientèle? \nLa Marché du Goût\, vous pour
 rez rencontrer plus d’une trentaine d’artisans français et belges qui
  vous présenteront leurs produits d’épicerie fine.\nProfitez d’un mo
 ment privilégié de 10h à 12h\, uniquement réservé aux professionnels 
 de l’agroalimentaire\, pour découvrir les produits exquis de Flandre oc
 cidentale\, du Nord de la France et de Wallonie.\n&nbsp\;\nAftermovie Marc
 hé du Goût B2B 2019 Courtrai en vidéo\n[su_youtube_advanced url="https:
 //youtu.be/g-lShLU31NQ" width="400" height="340" autohide="no" rel="no" th
 eme="light"]\n&nbsp\;\nProgramme:\n\n 	09h30: Accueil café\n 	10h00 - 12h
 00:  Ouverture du Marché du Goût \n\n 	\n\n 	\n\n 	\n\n 	Moment privil
 égié sur le Marché du Goût de 10h00 à 12h00 uniquement pour les profe
 ssionnels de l'agroalimentaire\n\n\n\n\n\n\n\n\n 	10h00 - 11h30:  Présen
 tation des réalisations et des résultats du projet\n 	12h30: Walking Din
 ner à base de produits locaux\, préparé par l’équipe du chef Benoît
  NEUSY\n 	14h00: Workshops et ateliers de sensibilisation vers l’aliment
 ation durable\n 	16h30: Moment de networking\n 	18h00: Clôture\n\n&nbsp\;
 \n[su_button url="https://docs.google.com/forms/d/e/1FAIpQLSd7gk75zEi7jv8p
 TvMMraBMITfkoLRGYqj683nQ_ASDqjdfFA/viewform" target="blank" style="3d" col
 or="#ffffff" size="7" radius="0" icon="icon: edit" icon_color="#ffffff" te
 xt_shadow="0px 0px 0px #000000"]PARTICIPATION EST GRATUITE MAIS RESTE OBLI
 GATOIRE (AVANT LE 11 NOVEMBRE)[/su_button]\n&nbsp\;\nAdresse:\nDomaine d
 ’Arondeau\nRue d’Arondeau 29\,\n7601 Péruwelz (BE)\n&nbsp\;\nContact:
 \nProvince de Hainaut - Hainaut Développement\nFabian WILMET\n+32 65 342 
 610\nfabian.wilmet@hainaut.be\nhttp://www.filiere-adt.eu/\n&nbsp\;\n\n\n\n
 &nbsp\;
ATTACH;FMTTYPE=image/jpeg:https://www.hainaut-developpement.be/wp-content/
 uploads/2021/10/Event-Cloture-V2.png
CATEGORIES:Agriculture / Agroalimentaire/ Circuits courts
LOCATION:Domaine d'Arondeau\, rue d'Arondeau 29\, Roucourt\, Hainaut\, 7601
 \, Tournai-Mouscron\, Belgique
GEO:50.525661;3.576765
X-APPLE-STRUCTURED-LOCATION;VALUE=URI;X-ADDRESS=rue d'Arondeau 29\, Roucour
 t\, Hainaut\, 7601\, Tournai-Mouscron\, Belgique;X-APPLE-RADIUS=100;X-TITL
 E=Domaine d'Arondeau:geo:50.525661,3.576765
END:VEVENT
BEGIN:VTIMEZONE
TZID:Europe/Brussels
X-LIC-LOCATION:Europe/Brussels
BEGIN:STANDARD
DTSTART:20211031T020000
TZOFFSETFROM:+0200
TZOFFSETTO:+0100
TZNAME:CET
END:STANDARD
END:VTIMEZONE
END:VCALENDAR