BEGIN:VCALENDAR
VERSION:2.0
PRODID:-//wp-events-plugin.com//7.2.3.1//EN
TZID:Europe/Brussels
X-WR-TIMEZONE:Europe/Brussels
BEGIN:VEVENT
UID:692@hainaut-developpement.be
DTSTART;TZID=Europe/Brussels:20210928T100000
DTEND;TZID=Europe/Brussels:20210928T200000
DTSTAMP:20210713T071702Z
URL:https://www.hainaut-developpement.be/agenda/journee-des-metiers-de-lal
 imentation-durable-un-evenement-franco-belge-avec-les-acteurs-de-lalimenta
 tion-durable/
SUMMARY:Journée des métiers de l'alimentation durable - Un événement fr
 anco-belge avec les acteurs de l'alimentation durable
DESCRIPTION:&nbsp\;\n\n\nLe mardi 28 septembre 2021 - De 10h à 20h\nVous c
 herchez une formation dans les secteurs de l’élevage ovin/caprin\, mara
 îchage\, transformation de fruits\, légumes\, plantes\, céréales\, lai
 t\, ou la commercialisation de ces produits? Vous aimeriez rencontrer des 
 employeurs ou des employés en alimentation durable?\nParticipez à notre 
 journée organisée par l’équipe du projet EAL² - Entrepreneur/Employ
 é Alimentaire Local! Vous rencontrerez des acteurs du secteur\, employeur
 s\, entrepreneurs et chercheurs d’emploi afin d’agir ensemble pour une
  alimentation saine et de qualité produite localement. Au programme de ce
 tte journée\; des conférences-débats\, des témoignages\, des espaces d
 e rencontres avec des conseillers ainsi que des stands de démonstrations 
 des divers métiers de l’alimentation durable.\nCet événement est enti
 èrement gratuit mais sur inscription.\n\n&nbsp\;\n\n[su_button url="https
 ://eal2.eu/journee-des-metiers-de-lalimentation-durable/" target="blank" s
 tyle="3d" color="#ffffff" size="8" radius="round" icon="icon: rotate-right
 " icon_color="#ffffff" text_shadow="0px 0px 0px #000000"]Plus d'informatio
 ns et inscriptions[/su_button]\n\n&nbsp\;\n\n\n\n&nbsp\;\n\n&nbsp\;
ATTACH;FMTTYPE=image/jpeg:https://www.hainaut-developpement.be/wp-content/
 uploads/2021/07/Journee-des-metiers-de-lalimentation-durable.jpg
CATEGORIES:Agriculture / Agroalimentaire/ Circuits courts
LOCATION:Ferme de Potelle\, exploitation agricole du Lycée des 3 Chênes\,
  avenue Bisiaux 5\, Potelle\, Hauts-de-France\, 59530\, Nord\, France
GEO:50.236889;3.662169
X-APPLE-STRUCTURED-LOCATION;VALUE=URI;X-ADDRESS=avenue Bisiaux 5\, Potelle\
 , Hauts-de-France\, 59530\, Nord\, France;X-APPLE-RADIUS=100;X-TITLE=Ferme
  de Potelle\, exploitation agricole du Lycée des 3 Chênes:geo:50.236889,
 3.662169
END:VEVENT
BEGIN:VTIMEZONE
TZID:Europe/Brussels
X-LIC-LOCATION:Europe/Brussels
BEGIN:DAYLIGHT
DTSTART:20210328T030000
TZOFFSETFROM:+0100
TZOFFSETTO:+0200
TZNAME:CEST
END:DAYLIGHT
END:VTIMEZONE
END:VCALENDAR