BEGIN:VCALENDAR
VERSION:2.0
PRODID:-//wp-events-plugin.com//7.2.3.1//EN
TZID:Europe/Brussels
X-WR-TIMEZONE:Europe/Brussels
BEGIN:VEVENT
UID:487@hainaut-developpement.be
DTSTART;TZID=Europe/Brussels:20200114T183000
DTEND;TZID=Europe/Brussels:20200114T220000
DTSTAMP:20191211T082752Z
URL:https://www.hainaut-developpement.be/agenda/developper-mon-activite-gr
 ace-au-crowdfunding-3/
SUMMARY:Développer mon activité grâce au crowdfunding!
DESCRIPTION:Comment faire connaître son initiative? Comment confronter son
  produit\, son idée\, son projet directement avec le marché? Comment agr
 andir sa communauté? Comment augmenter le nombre de ses clients?\n\nLe cr
 owdfunding (financement participatif) est un moyen qui permet de rencontre
 r toutes ces aspirations.\n\nPendant 45 minutes\, nous verrons ensemble ce
  qu’est le crowdfunding\, ce qui se cache derrière cette notion\, si le
  crowdfunding est adaptable à votre secteur et aussi comment préparer un
 e campagne… L’ensemble agrémenté d’exemples concrets.\n\nLe reste 
 du temps sera consacré aux questions/réponses.\n\nCommunity Builder au s
 ein de Coworking – Charleroi Entreprendre\, Frédéric WINS s’est spé
 cialisé dans le crowdfunding\, dès 2014. Il a son actif une quinzaine de
  campagnes financées.\nProgramme\n18h30: Accueil\n\n19h00: Intervention d
 e Frédéric WINS\n\n19h45: Conclusion et questions/réponses\n\nParticipa
 tion gratuite mais inscription obligatoire.\n\n[su_button url="https://www
 .eventbrite.fr/e/billets-developper-mon-activite-grace-au-crowdfunding-cha
 rleroi-14012020-85099223067" target="blank" style="3d" background="#23aa88
 " color="#ffffff" size="9" radius="10" icon="icon: pencil-square-o" icon_c
 olor="#ffffff" text_shadow="0px 0px 0px #000000"]INSCRIPTIONS[/su_button]\
 nContact et informations\nProvince de Hainaut - Hainaut Développement\n\n
 Emmanuel NACHEZ - +32 65 342 572 – emmanuel.nachez@hainaut.be\n\nUne org
 anisation de Coworking – Charleroi Entreprendre et de Hainaut Développe
 ment.\n\n\n\n&nbsp\;
ATTACH;FMTTYPE=image/jpeg:https://www.hainaut-developpement.be/wp-content/
 uploads/2019/12/crowdfunding140120.jpg
CATEGORIES:Développement des entreprises
LOCATION:Coworking - Charleroi Entreprendre\, Avenue Général Michel 1E\, 
 Charleroi\, 6000\, Belgique
X-APPLE-STRUCTURED-LOCATION;VALUE=URI;X-ADDRESS=Avenue Général Michel 1E\
 , Charleroi\, 6000\, Belgique;X-APPLE-RADIUS=100;X-TITLE=Coworking - Charl
 eroi Entreprendre:geo:0,0
END:VEVENT
BEGIN:VTIMEZONE
TZID:Europe/Brussels
X-LIC-LOCATION:Europe/Brussels
BEGIN:STANDARD
DTSTART:20191027T020000
TZOFFSETFROM:+0200
TZOFFSETTO:+0100
TZNAME:CET
END:STANDARD
END:VTIMEZONE
END:VCALENDAR