BEGIN:VCALENDAR
VERSION:2.0
PRODID:-//wp-events-plugin.com//7.2.3.1//EN
TZID:Europe/Brussels
X-WR-TIMEZONE:Europe/Brussels
BEGIN:VEVENT
UID:1115@hainaut-developpement.be
DTSTART;TZID=Europe/Brussels:20260325T090000
DTEND;TZID=Europe/Brussels:20260325T130000
DTSTAMP:20260309T105149Z
URL:https://www.hainaut-developpement.be/agenda/design-packaging-agroalime
 ntaire-durable/
SUMMARY:Design & packaging agroalimentaire durable
DESCRIPTION:Design &amp\; Emballages agroalimentaires durables : transforme
 r la contrainte réglementaire en opportunité\n\nLe défi de rester attra
 ctif tout en respectant la réglementation européenne PPWR\nDans le cadre
  des projets Food RADARS et R-EU-Cycle\, Hainaut Développement organ
 ise une matinée d’échanges et de travail dédiée aux entreprises agr
 oalimentaires\, autour des enjeux du design\, des emballages durables e
 t de la nouvelle réglementation européenne PPWR (Packaging and Packagi
 ng Waste Regulation).\n\n Une opportunité unique de soumettre vos emball
 ages à des experts !\n\n\n\nObjectifs de la matinée\nDans un contexte de
  renforcement de la réglementation européenne sur les emballages\, les e
 ntreprises doivent relever plusieurs défis :\n\n 	Assurer leur conformit
 é réglementaire\n 	Adapter leurs choix de matériaux\n 	Intégrer des c
 ritères de durabilité\n 	Maintenir leur attractivité et leur différe
 nciation sur le marché\n\nCette rencontre vise à :\n\n– Apporter des r
 epères clairs et opérationnels sur la réglementation PPWR\n– Mettre 
 en lumière le design graphique comme levier stratégique\n– Favoriser
  des échanges concrets avec des experts\, à partir de cas réels et de v
 os propres emballages\n\n\n\nInformations pratiques\n Nombre de places li
 mité – inscription obligatoire\nPlus d’informations et inscription gr
 atuite : https://foodradars.crosss3.eu/event/design-emballages-agroaliment
 aires-durables/\nCet événement s’adresse aux entreprises agroalimenta
 ires et portera sur les enjeux du design\, des emballages durables et de
  la nouvelle réglementation européenne PPWR.
ATTACH;FMTTYPE=image/jpeg:https://www.hainaut-developpement.be/wp-content/
 uploads/2026/03/c5f862f0b366882395bcdd2b1376d0ef1758470318be5fe81e55445567
 89e7fa.jpg
CATEGORIES:Agriculture / Agroalimentaire/ Circuits courts
LOCATION:Province de Hainaut - Hainaut Développement\, Boulevard Initialis
  22\, MONS\, 7000\, Belgique
GEO:50.45965959999999;3.9265437999999903
X-APPLE-STRUCTURED-LOCATION;VALUE=URI;X-ADDRESS=Boulevard Initialis 22\, MO
 NS\, 7000\, Belgique;X-APPLE-RADIUS=100;X-TITLE=Province de Hainaut - Hain
 aut Développement:geo:50.45965959999999,3.9265437999999903
END:VEVENT
BEGIN:VTIMEZONE
TZID:Europe/Brussels
X-LIC-LOCATION:Europe/Brussels
BEGIN:STANDARD
DTSTART:20251026T020000
TZOFFSETFROM:+0200
TZOFFSETTO:+0100
TZNAME:CET
END:STANDARD
END:VTIMEZONE
END:VCALENDAR