BEGIN:VCALENDAR
VERSION:2.0
PRODID:-//wp-events-plugin.com//7.2.3.1//EN
TZID:Europe/Brussels
X-WR-TIMEZONE:Europe/Brussels
BEGIN:VEVENT
UID:1131@hainaut-developpement.be
DTSTART;TZID=Europe/Brussels:20260511T083000
DTEND;TZID=Europe/Brussels:20260511T120000
DTSTAMP:20260423T075817Z
URL:https://www.hainaut-developpement.be/agenda/de-la-wallonie-au-monde-pr
 opulsez-votre-e-commerce-au-dela-de-nos-frontieres/
SUMMARY:De la Wallonie au Monde : propulsez votre e-commerce au-delà de no
 s frontières !
DESCRIPTION:Pourquoi se lancer dans l’e-commerce ? Comment franchir le ca
 p ? Quels outils concrets pour réussir ? Nous avons rassemblé experts et
  retours d’expérience pour répondre à vos questions les plus concrèt
 es. Une matinée pour s’informer\, s’inspirer et oser franchir la fron
 tière.
ATTACH;FMTTYPE=image/jpeg:https://www.hainaut-developpement.be/wp-content/
 uploads/2026/04/Colloque.jpg
CATEGORIES:Développement des entreprises
LOCATION:U-Campus Charleroi – Bâtiment Gramme (Auditoire Prestige)\, Bou
 levard Solvay 31\, Charleroi\, 6000\, Belgique
GEO:50.416298;4.446934
X-APPLE-STRUCTURED-LOCATION;VALUE=URI;X-ADDRESS=Boulevard Solvay 31\, Charl
 eroi\, 6000\, Belgique;X-APPLE-RADIUS=100;X-TITLE=U-Campus Charleroi – B
 âtiment Gramme (Auditoire Prestige):geo:50.416298,4.446934
END:VEVENT
BEGIN:VTIMEZONE
TZID:Europe/Brussels
X-LIC-LOCATION:Europe/Brussels
BEGIN:DAYLIGHT
DTSTART:20260329T030000
TZOFFSETFROM:+0100
TZOFFSETTO:+0200
TZNAME:CEST
END:DAYLIGHT
END:VTIMEZONE
END:VCALENDAR