BEGIN:VCALENDAR
VERSION:2.0
PRODID:-//wp-events-plugin.com//7.2.3.1//EN
TZID:Europe/Brussels
X-WR-TIMEZONE:Europe/Brussels
BEGIN:VEVENT
UID:718@hainaut-developpement.be
DTSTART;TZID=Europe/Brussels:20211116T110000
DTEND;TZID=Europe/Brussels:20211116T130000
DTSTAMP:20211025T094623Z
URL:https://www.hainaut-developpement.be/agenda/cedant-ou-repreneur-commen
 t-reussir-votre-negociation/
SUMMARY:Cédant ou Repreneur\, comment réussir votre négociation ?
DESCRIPTION:Dans le cadre de la semaine de la transmission\, Hainaut Dével
 oppement\, Synergie Business Club et Avomarc s’associent à la SOWACCESS
  et à l’UCM pour vous proposer une séance d’information interactive 
 qui s’adresse tant au cédant qu’au repreneur le 16 novembre 2021.\nC
 édant ou Repreneur\, comment réussir votre négociation ?\nLa négociati
 on est en effet une étape cruciale du processus de transmission d’entre
 prises. Mal maîtrisée\, elle engendre méfiance\, voire l’arrêt des d
 iscussions. Bien maîtrisée\, elle crée un climat de confiance et abouti
 t généralement à un accord gagnant-gagnant.\n\nDurant cette session pra
 gmatique et interactive\, nous aborderons\, au travers d’exemples concre
 ts\, la préparation\, les techniques et les ingrédients indispensables p
 our une négociation réussie.\n\nOrateur : Aslam Bakkali\n\nAprès avoir 
 exercé durant plusieurs décennies des rôles de direction financière et
  administrative au sein de plusieurs multinationales\, Aslam Bakkali est r
 econnu par la Sowalfin-Transmission en tant qu’expert en gestion\, cessi
 on et acquisition d’entreprise.\n\nParticipation gratuite mais inscripti
 on obligatoire.\n\nVeuillez noter que pour préserver la santé de tous et
  se conformer aux conditions sanitaires\, la présentation du Covid Safe T
 icket sera demandée pour participer à cet événement.\n\nINSCRIPTION h
 ttps://docs.google.com/forms/d/e/1FAIpQLSdQevFWC86c1pZWx1xW7hLP9eA9T1nGDqp
 mBe8pE-hb8pLYPg/viewform\n\nProgramme :\n\n 	11h00 : Accueil des participa
 nts\,\n 	11h30 : Cédant ou Repreneur\, comment réussir votre négociatio
 n ?\n 	13h00 : Lunch + networking\n\nContact : Emmanuel Nachez +32 65 342
  572 emmanuel.nachez@hainaut.be\n\n  
ATTACH;FMTTYPE=image/jpeg:https://www.hainaut-developpement.be/wp-content/
 uploads/2021/10/AF1QipPy0PxSI_3-Rv4HIOjPEhTbPlCV6ZXMefsC1uGNw1000-h250-1.p
 ng
CATEGORIES:Développement des entreprises
LOCATION:Province de Hainaut - Hainaut Développement\, Boulevard Initialis
  22\, MONS\, Belgique\, 7000\, Belgique
GEO:50.45966749999999;3.9265296999999464
X-APPLE-STRUCTURED-LOCATION;VALUE=URI;X-ADDRESS=Boulevard Initialis 22\, MO
 NS\, Belgique\, 7000\, Belgique;X-APPLE-RADIUS=100;X-TITLE=Province de Hai
 naut - Hainaut Développement:geo:50.45966749999999,3.9265296999999464
END:VEVENT
BEGIN:VTIMEZONE
TZID:Europe/Brussels
X-LIC-LOCATION:Europe/Brussels
BEGIN:STANDARD
DTSTART:20211031T020000
TZOFFSETFROM:+0200
TZOFFSETTO:+0100
TZNAME:CET
END:STANDARD
END:VTIMEZONE
END:VCALENDAR