BEGIN:VCALENDAR
VERSION:2.0
PRODID:-//wp-events-plugin.com//7.2.3.1//EN
TZID:Europe/Brussels
X-WR-TIMEZONE:Europe/Brussels
BEGIN:VEVENT
UID:606@hainaut-developpement.be
DTSTART;TZID=Europe/Brussels;VALUE=DATE:20201019
DTEND;TZID=Europe/Brussels;VALUE=DATE:20201023
DTSTAMP:20200917T093725Z
URL:https://www.hainaut-developpement.be/agenda/business-meetings-food-par
 is-2020/
SUMMARY:Business Meetings Food Paris 2020
DESCRIPTION:Comme vous le savez probablement\, l’évolution des condition
 s sanitaires a conduit les organisateurs du SIAL\, à annuler l’évènem
 ent en octobre 2020.\nCependant\, le réseau Enterprise Europe Network (EE
 N)\, dont l’AWEX est coordinateur en Wallonie\, a décidé de maintenir 
 les rencontres d’affaires du 19 au 22 octobre\, de manière virtuelle.\n
 Profitez de cette opportunité pour trouver les partenaires à l’interna
 tional dont votre business a besoin!\n\nA qui s’adressent les Business M
 eetings Food Paris?\nAux producteurs de produits alimentaires qui recherch
 ent de nouveaux marchés et de nouveaux clients.\n\nSecteurs ciblés:\n\n 
 	Boissons\n 	Boulangerie\, Viennoiserie\, Pâtes\n 	Condiments\, Epices\n 
 	Snacking\n 	Confiseries\, confitures\, desserts\n 	Préparations de fruit
 s et légumes\n 	Produits laitiers\n 	Viandes\n\nComment ça marche?\nAu t
 ravers du réseau EEN\, l’AWEX vous propose une autre manière de rencon
 trer vos futurs partenaires commerciaux en organisant des rendez-vous\, da
 ns le cadre de l’action Business Meetings Food Paris.\nAvec\, au final\,
  un programme personnalisé répondant à vos besoins spécifiques.\n[su_l
 ist icon="icon: arrow-right" icon_color="#efc31d" indent="4"]\n\n 	ETAPE 1
 :  Inscrivez-vous en ligne: https://b2bfoodparis2020.converve.io/for_supp
 liers.html\nRenseignez votre fiche profil. Date limite d’inscription: 5 
 octobre 2020.\n 	ETAPE 2: Accédez à la liste des acheteurs. Sélectionne
 z les entreprises qui vous intéressent et demandez\, acceptez ou décline
 z les rendez-vous.\n 	ETAPE 3: Confirmez l’agenda de rendez-vous\, il vo
 us sera envoyé.\n\n[/su_list]\n\nFacturation des RDV acceptés par les ac
 heteurs (100€/rdv).\n\nRDV: Recevez votre planning définitif. Rencontre
 z vos interlocuteurs par visioconférence.\n\nBesoin de support? Un souci\
 , une question? L’AWEX\, coordinateur du réseau EEN Wallonie\, est là 
 pour vous aider!\nN’hésitez pas à nous contacter: m.guillaume@awex.be
ATTACH;FMTTYPE=image/jpeg:https://www.hainaut-developpement.be/wp-content/
 uploads/2020/09/Banniere-B2B-FoodParis-2020-Fr-V3.jpg
CATEGORIES:Agriculture / Agroalimentaire/ Circuits courts
END:VEVENT
BEGIN:VTIMEZONE
TZID:Europe/Brussels
X-LIC-LOCATION:Europe/Brussels
BEGIN:DAYLIGHT
DTSTART:20200329T030000
TZOFFSETFROM:+0100
TZOFFSETTO:+0200
TZNAME:CEST
END:DAYLIGHT
END:VTIMEZONE
END:VCALENDAR