BEGIN:VCALENDAR
VERSION:2.0
PRODID:-//wp-events-plugin.com//7.2.3.1//EN
TZID:Europe/Brussels
X-WR-TIMEZONE:Europe/Brussels
BEGIN:VEVENT
UID:882@hainaut-developpement.be
DTSTART;TZID=Europe/Brussels:20230507T083000
DTEND;TZID=Europe/Brussels:20230629T123000
DTSTAMP:20230613T120337Z
URL:https://www.hainaut-developpement.be/agenda/animations-scolaires-semai
 ne-verte-europeenne-ou-sve-2/
SUMMARY:Animations scolaires "Semaine Verte Européenne" ou "SVE"
DESCRIPTION:Quand : du 07 mai au 29 juin 2023\, en matinée (de +/- 8h30 
 à 12h30)\n\nOù : Dans les écoles primaires de Thieu\, Renlies\, Mont su
 r Marchienne\, Hérinnes\, Dour\, Jemappes\, Mouscron et Gosselies et chez
  EUROPE DIRECT Hainaut pour les écoles de Huissignies et de Lens\n\nPubli
 c :  -  Classes de la 4ème à la 5ème année du primaire.\n\n-  de 2
 5 à 30 élèves par classe Maximum !\n\nContexte: \n\nChaque année au d
 ébut du mois de juin\, la semaine verte européenne\, est organisée pour
  discuter\, promouvoir\, et célébrer la politique environnementale de l'
 UE.\nSur le thème "Livrer un monde net-zéro"\, l'édition de cette anné
 e veut faire en sorte que l'#EUGreenDeal puisse se mettre en place pour l
 es citoyens\, les entreprises et les futures générations d'Européens!\n
 \nDurant cette "Semaine verte européenne"\, du 7 au 11 juin\, une variét
 é d'activités telles que des ateliers éducatifs\, des débats\, des sé
 minaires et des actions de sensibilisation sont organisés à Bruxelles et
  dans toute l'Europe. Sous le thème "Créer un monde neutre sur le climat
 " les discussions de cette année porteront sur la biodiversité\, l'écon
 omie circulaire\, le "zéro pollution" et bien plus encore.\n\nDécouvrez 
 la liste des événements partenaires organisés pendant la semaine verte 
 de l'UE 2023\, via ce lien : https://green-week.event.europa.eu/partner-e
 vents-list_en\n\nCette année encore\, dans le cadre de la #EUGreenWeek\, 
 nous proposons des animations sur le thème de l’environnement\, adapté
 es aux élèves et organisées de manière pédagogique et ludique par not
 re partenaire environnement-et-decouvertes.org\nProgramme :\nL'animation 
 se compose \;\n\n 	D'une brève introduction sur le rôle du Centre d’In
 formation Europe Direct Hainaut et sur ce que fait l'Union européenne en 
 matière d'environnement\,\n 	D'une animation pédagogique sur un thème d
 u compost et de la biodiversité dans nos jardins\,\n 	D'un atelier bricol
 age en relation avec les thèmes de l'animation pédagogique de cette ann
 ée\n\nChaque élève recevra un sac Europe Direct Hainaut contenant le do
 ssier pédagogique de l’animation\, ainsi que de la documentation sur l
 ’Union européenne\, avec des cartes et jeux sur l'Europe.\n\nNB: chaque
  classe est donc divisée en 2\, avec un animateur par groupe. Les groupes
  permutent ensuite à la récré!\n\nInformation et Inscriptions pour l'
 édition 2024 : veronique.lefebvre@hainaut.be\n\n&nbsp\;\n\nContact:\n\nPr
 ovince de Hainaut – Hainaut Développement + plan\nEurope Direct-Hainaut
 \nBoulevard Initialis 22 – 7000 MONS\neurope.direct@hainaut.be\nwww.euro
 pedirecthainaut.be\n\n&nbsp\;
ATTACH;FMTTYPE=image/jpeg:https://www.hainaut-developpement.be/wp-content/
 uploads/2023/06/SVE-2023.jpg
CATEGORIES:Citoyenneté européenne,Europe Direct
END:VEVENT
BEGIN:VTIMEZONE
TZID:Europe/Brussels
X-LIC-LOCATION:Europe/Brussels
BEGIN:DAYLIGHT
DTSTART:20230326T030000
TZOFFSETFROM:+0100
TZOFFSETTO:+0200
TZNAME:CEST
END:DAYLIGHT
END:VTIMEZONE
END:VCALENDAR