BEGIN:VCALENDAR
VERSION:2.0
PRODID:-//wp-events-plugin.com//7.2.3.1//EN
TZID:Europe/Brussels
X-WR-TIMEZONE:Europe/Brussels
BEGIN:VEVENT
UID:952@hainaut-developpement.be
DTSTART;TZID=Europe/Brussels:20240425T180000
DTEND;TZID=Europe/Brussels:20240425T200000
DTSTAMP:20240416T100232Z
URL:https://www.hainaut-developpement.be/agenda/afterwork-gourmand-project
 ion-du-film-la-theorie-du-boxeur-suivi-dune-garden-party/
SUMMARY:Afterwork gourmand: projection du film "La théorie du Boxeur" suiv
 i d'une Garden Party
DESCRIPTION:\n\n&nbsp\;\nHainaut Développement et ses partenaires vous inv
 itent à l'événement de lancement des rendez-vous en terre agricole.\nCe
 lui-ci débutera par un ciné débat et se poursuivra dans la bonne humeur
  dans les jardins d'Hainaut Développement.\nDes dégustations des product
 eurs partenaires seront proposées\, le tout dans une ambiance jazzy.\nCon
 vivialité garantie.\nSynopsis du documentaire: "Les excès du climat frap
 pent de plus en plus le monde agricole. En 2022\, la sécheresse crée un 
 véritable électrochoc dans la vallée de la Dôme. Nathanaël COSTE\, G
 éographe de formation\, enquête chez des agriculteurs pour qui le temps 
 de l'adaptation a déjà commencé. Alors que la moitié des fermes va cha
 nger de main d'ici dix ans\, le film questionne les agriculteurs et cherch
 eurs sans à priori pour repenser notre façon de produire et construire l
 a résilience alimentaire d'un territoire."\n\nTarif: accès gratuit mais 
 réservation obligatoire (nombre limité de participants)\n\n[gravityform 
 id="167" title="true" description="true" ajax="true"]\n\nInfos et réserva
 tions: +32 65 342 623 - hd.agriculture@hainaut.be\n\nTout le programme de 
 Rendez-vous en terre agricole est accessible à https://rdvta.hainaut-deve
 loppement.be/
ATTACH;FMTTYPE=image/jpeg:https://www.hainaut-developpement.be/wp-content/
 uploads/2024/04/Affiche-theorie-du-boxeur-Nathanael-Coste.jpg
CATEGORIES:Agriculture / Agroalimentaire/ Circuits courts,Rendez-vous en
 terre agricole
END:VEVENT
BEGIN:VTIMEZONE
TZID:Europe/Brussels
X-LIC-LOCATION:Europe/Brussels
BEGIN:DAYLIGHT
DTSTART:20240331T030000
TZOFFSETFROM:+0100
TZOFFSETTO:+0200
TZNAME:CEST
END:DAYLIGHT
END:VTIMEZONE
END:VCALENDAR