BEGIN:VCALENDAR
VERSION:2.0
PRODID:-//wp-events-plugin.com//7.2.3.1//EN
TZID:Europe/Brussels
X-WR-TIMEZONE:Europe/Brussels
BEGIN:VEVENT
UID:1130@hainaut-developpement.be
DTSTART;TZID=Europe/Brussels;VALUE=DATE:20260425
DTEND;TZID=Europe/Brussels;VALUE=DATE:20260608
DTSTAMP:20260422T092429Z
URL:https://www.hainaut-developpement.be/agenda/6e-edition-des-rendez-vous
 -en-terre-agricole/
SUMMARY:6e édition des Rendez-vous en Terre agricole
DESCRIPTION:\nDurant tout le mois de mai\, partez à la rencontre de nos ag
 riculteurs et agricultrices grâce aux Rendez-vous en Terre agricole.\nPo
 ur cette sixième édition\, pas moins de 65 activités sont organisées 
 à travers tout le Hainaut afin de vous faire découvrir le monde agricole
 .\nPortes ouvertes à la ferme\, balades gourmandes\, marchés fermiers\, 
 dégustations\, ciné-débat\, ... autant d’occasions d’explorer les s
 avoir-faire agricoles\, de savourer des produits locaux et d’échanger d
 irectement avec celles et ceux qui les produisent.\n\nRéparties sur l’e
 nsemble du territoire du Hainaut\, ces activités vous permettent de trouv
 er facilement un événement près de chez vous!\nAu plaisir de vous y ren
 contrer...\n\n[su_table responsive="yes"]\n\n\n\nDates\nTitres\nLieux\n\n\
 nSamedi\n25 avril\nlancement officiel des Rendez-vous en Terre Agricole 20
 26 !\nNAAST\n\n\nSamedis 2\, 9\, 16\, 23 et 30 mai\nMarché des producteur
 s locaux\nHENRIPONT (2 et 23)\, ECAUSSINNES (9)\nBRAINE LE COMTE (16)\,\nB
 RAINE LE COMTE ( 30)\n\n\nDimanche 3 mai\n«VIVANT: la fête du Parc natur
 el des Hauts Pays en fête»\nQUIEVRAIN\n\n\nDimanche 3 mai\nPetit déjeun
 er à la ferme\nMONTIGNIES-SUR-ROC\n\n\nLes dimanches 3 et 24 mai\nMarche 
 Pique-Nique au départ de la Bergerie des Collines\nOEUDEGHIEN\n\n\nJeudi 
 7 mai\nLes jeudis.eu en terre agricole\, quel avenir pour notre agricultur
 e\nMONS\n\n\nVendredi  8 mai et 22 mai\nDrive de la Ferme de Foucaumont\n
 VILLERS-SAINT-AMAND\n\n\nVendredi  8 mai et 22 mai\nMarché des producteu
 rs à l'Abbaye de Saint-Denis\nSAINT-DENIS\n\n\nSamedi 9 mai\nPortes ouver
 tes à la Chèvrerie de Luna\nESTAIMBOURG\n\n\nSamedi 9 mai\nLe commerce 
 équitable s’invite en ville\nSOIGNIES\n\n\nSamedi  9 mai\nDimanche 10 
 mai\nAnniversaire de l’épicerie : « Á l’Origine DOUR»\, venez fê
 ter nos 5 ans!\nDOUR\n\n\nSamedi 9 mai et\nVendredi 22 mai\nRencontre des 
 producteurs de la Botte Paysanne\nSIVRY RANCE\n\n\nSamedis 2\, 9\, 16\, 23
  et 30 mai\nRendez-vous des saveurs locales\nBOIS DE LESSINES\n\n\nSamedi 
 9 et 16 mai\nMercredi 13\, 20 et 27 mai et le Dimanche 17 mai\n«Les MINIS
  à la ferme» ainsi que Pause "nature &amp\; Saveurs"\nMONTIGNIES-LEZ-LEN
 S\n\n\nDimanche 10 mai et\nLundi 25 mai\nEmmenez avec vous un petit bout 
 de Spamboux\, à l’occasion\nd’un petit-déjeuner ou d’un pique-niqu
 e\nMONT-SAINT-GENEVIEVE\n\n\nDimanche 10 mai\nSalon Saveurs et Nature 2026
 \nSAINT-LEGER\n\n\nDimanche 10 mai\nPortes ouvertes au Jardin des abeilles
 \nNECHIN\n\n\nSamedi 16 mai\nA la découverte de la ferme de Coulbrie\nSOI
 GNIES\n\n\nSamedi 16 mai\nAvec l’Élevage de la Petite Suisse\, viens pa
 sser ton brevet de\npetit(e) fermier(e) au Crocodile Rouge sur le site des
  Barrages de\nl’Eau d’Heure\nFROIDCHAPELLE\n\n\nSamedi 16 mai et 23 ma
 i\nPromotion du Cheval de Trait Belge\nFROIDCHAPELLE &amp\;\nLOBBES\n\n\nD
 imanche 17 mai\nConférence gesticulée «Quand on sème\, c’est pour la
  vie» ou\nComment le système capitaliste s’approprie les semences\nHEN
 RIPONT\n\n\nDimanche 17 mai\nJournée à la découverte de l’Agriculture
  sociale\nECAUSSINNES-D’ENGHIEN\n\n\nDimanche 17 mai\nBalade Tracto-gour
 mande\nBUZET\n\n\nLundi 18 mai\nEn route pour le tour des fermes d’Aisea
 u-Presles en passant par\nla ferme de l’étoile\nAISEAU-PRESLES\n\n\nMar
 di 19 mai\nEn route pour le tour des fermes d’Aiseau-Presles en passant 
 par la\nferme Marcadieu\nPONT DE LOUP\n\n\nJeudi 21 mai\nEn route pour le 
 tour des fermes d’Aiseau-Presles en passant par\nl’élevage de Presles
  avec la ferme de Wyngaert\nPRESLES\n\n\nJeudi 21 au dimanche 7 juin\nLes 
 saveurs et savoir-faire agricoles de La Louvière\nLA LOUVIERE\n\n\nVendre
 di 22 mai\nSamedi 23 mai\nEnsemble avec les personnes extraordinaires !\n
 MARCINELLE\n\n\nSamedi 23 mai &amp\; tout le mois de mai\nTout le mois de 
 mai + balade gourmande le 23 mai à la Ferme de Cantraine\nMIGNAULT\n\n\nS
 amedi 23 mai\nJournée Portes Ouvertes  au vignoble du Domaine de la Port
 elette\nLOBBES\n\n\nDimanche 24 mai\nPortes ouvertes à la Ferme du Cloche
 r\nOBIGIES\n\n\nDimanche 24 mai\nPortes ouvertes à  la Ferme de Cavrinne
 s.\nHERINNES-LEZ-PECQ\n\n\nDimanche 24 mai\nFête de la Fraise : Une explo
 sion de saveurs locales et une\nredécouverte des traditions\nTHIRIMONT\n\
 n\nDimanche 24 mai\nLundi 25 mai\nPortes ouvertes à la Bergerie de Léoni
 e\nMONTIGNIES-SUR-ROC\n\n\nVendredi 29 mai\nProjection de la Captation de 
 la pièce de théâtre\n«Notre (sur)vie en terre agricole»\nPONT-À-CELL
 ES\n\n\nSamedi 30 mai\nVenez déguster les produits locaux à l’occasion
  du marché du Terroir\nMOUSCRON\n\n\nSamedi 30 mai\nA la découverte de l
 a ferme expérimentale et\npédagogique du CREPA - CARAH\nATH\n\n\nDimanch
 e 31 mai\nRallye gourmand des producteurs\nMONT-DE-L’ENCLUS et FRASNES-L
 EZ-ANVAING\n\n\nDimanches 31 mai &amp\; 7 juin\nBalade guidée dans les ve
 rgers  &amp\; "Traînée de poudre"\nTHIEULAIN\n\n\nVendredi 5 juin\nSame
 di 6 juin\nDimanche 7 juin\nEvénement de clôture des Rendez-vous en terr
 e agricole:\nRegards artistiques sur le métier d’Agriculteur\nMONTIGNIE
 S-LEZ-LENS\n\n\nDimanche 7 juin\nCircuits vélos &amp\; Saveurs locales\nS
 OIGNIES\n\n\nTout le mois de mai\nBalades audioguidées pour comprendre le
 s paysages agricoles\nHAINAUT\n\n\nPour les écoles\n\n\nDu 18 au 22 mai e
 t\ndu 26 au 29 mai\nHainaut Développement part en campagne de sensibilisa
 tion dans les écoles\nMONS\n\n\nMardi 19 mai\nImmersion au cœur des circ
 uits courts du Cœur du Hainaut\nTHIEUSIES\n\n\n\n[/su_table]
ATTACH;FMTTYPE=image/jpeg:https://www.hainaut-developpement.be/wp-content/
 uploads/2026/04/AFFICHE_rdv_A3_2026-Moyenne.jpeg
CATEGORIES:Agriculture / Agroalimentaire/ Circuits courts,Rendez-vous en
 terre agricole
END:VEVENT
BEGIN:VTIMEZONE
TZID:Europe/Brussels
X-LIC-LOCATION:Europe/Brussels
BEGIN:DAYLIGHT
DTSTART:20260329T030000
TZOFFSETFROM:+0100
TZOFFSETTO:+0200
TZNAME:CEST
END:DAYLIGHT
END:VTIMEZONE
END:VCALENDAR